BEGIN:VCALENDAR
PRODID:-//eluceo/ical//2.0/EN
VERSION:2.0
CALSCALE:GREGORIAN
BEGIN:VEVENT
UID:eb84ae9c2f34ce9fe3858781aa6895f7
DTSTAMP:20260422T082700Z
SUMMARY:TS Ann Jacobs Award for Social Justice
DESCRIPTION:Jewish Federation of Greater Naples\nCommunity Calendar\nhttps:
 //jewishnaples.org/calendar/ts-ann-jacobs-award-for-social-justice\n\nTemp
 le Shalom\n\nAnn Jacobs Award for Social Justice
DTSTART;TZID=America/New_York:20190208T193000
DTEND;TZID=America/New_York:20190208T213000
END:VEVENT
END:VCALENDAR
