BEGIN:VCALENDAR
PRODID:-//eluceo/ical//2.0/EN
VERSION:2.0
CALSCALE:GREGORIAN
BEGIN:VEVENT
UID:d3952ab99c850661915d617cedc051a1
DTSTAMP:20260423T102510Z
SUMMARY:TS A Reason to Rise
DESCRIPTION:Jewish Federation of Greater Naples\nCommunity Calendar\nhttps:
 //jewishnaples.org/calendar/ts-a-reason-to-rise-1693411318\n\nA Reason to 
 Rise: Book Chat with Author\, Rabbi Jeremy Barras. We invite you for an ev
 ening with Rabbi Jeremy Barras to celebrate the launch of his debut novel\
 , “A Reason To Rise.” Rabbi Barras will speak about his writing proces
 s\, and how the book serves as a vessel to convey his deeply held belief t
 hat Zionism animates the soul of every Jew. If you would like to purchase 
 and read his novel prior to the event\, the book is available on Amazon. B
 ooks will be sold at the event as well.
DTSTART;TZID=America/New_York:20231018T190000
DTEND;TZID=America/New_York:20231018T210000
END:VEVENT
END:VCALENDAR
