BEGIN:VCALENDAR
PRODID:-//eluceo/ical//2.0/EN
VERSION:2.0
CALSCALE:GREGORIAN
BEGIN:VEVENT
UID:e941d0143c7d47cc6be212ffbff634a4
DTSTAMP:20260420T103949Z
SUMMARY:TS 2nd Night Family Seder
DESCRIPTION:Jewish Federation of Greater Naples\nCommunity Calendar\nhttps:
 //jewishnaples.org/calendar/ts-2nd-night-family-seder-1495653823\n\nSecond
  Night Seder at Temple Shalom
DTSTART;TZID=America/New_York:20180331T180000
DTEND;TZID=America/New_York:20180331T210000
END:VEVENT
END:VCALENDAR
