BEGIN:VCALENDAR
PRODID:-//eluceo/ical//2.0/EN
VERSION:2.0
CALSCALE:GREGORIAN
BEGIN:VEVENT
UID:e9355463a92c873439cac3cd0823ee4c
DTSTAMP:20260419T221439Z
SUMMARY:TS - Wise Aging\, Sacred Living
DESCRIPTION:Jewish Federation of Greater Naples\nCommunity Calendar\nhttps:
 //jewishnaples.org/calendar/ts---wise-aging-sacred-living-1756316130\n\nIn
 structors: Rabbi Adam Miller & Missy Balsam\nA groundbreaking program spec
 ifically designed to meet the social\, emotional and spiritual needs of Je
 wish seekers entering second adulthood.\n\nPlease check the Temple Shalom 
 website for registration and cost information.
DTSTART;TZID=America/New_York:20260108T133000
DTEND;TZID=America/New_York:20260108T150000
END:VEVENT
END:VCALENDAR
