BEGIN:VCALENDAR
PRODID:-//eluceo/ical//2.0/EN
VERSION:2.0
CALSCALE:GREGORIAN
BEGIN:VEVENT
UID:7ada8c59cc877fc3e14d3e144d77329e
DTSTAMP:20260424T003928Z
SUMMARY:TS - Speaker
DESCRIPTION:Jewish Federation of Greater Naples\nCommunity Calendar\nhttps:
 //jewishnaples.org/calendar/ts---speaker-1717613730\n\nContact Temple Shal
 om for more information
DTSTART;TZID=America/New_York:20250204T140000
DTEND;TZID=America/New_York:20250204T160000
END:VEVENT
END:VCALENDAR
