BEGIN:VCALENDAR
PRODID:-//eluceo/ical//2.0/EN
VERSION:2.0
CALSCALE:GREGORIAN
BEGIN:VEVENT
UID:8a5bf97a643c7ec47030141d9e23da35
DTSTAMP:20260424T045115Z
SUMMARY:TS - Scholars-in-Residence
DESCRIPTION:Jewish Federation of Greater Naples\nCommunity Calendar\nhttps:
 //jewishnaples.org/calendar/ts---scholars-in-residence-1723046359\n\nSunda
 y morning with Scholars-in-Residence
DTSTART;TZID=America/New_York:20250119T100000
DTEND;TZID=America/New_York:20250119T120000
END:VEVENT
END:VCALENDAR
