BEGIN:VCALENDAR
PRODID:-//eluceo/ical//2.0/EN
VERSION:2.0
CALSCALE:GREGORIAN
BEGIN:VEVENT
UID:460ca2735511cd5a5eb6c067358d5dfc
DTSTAMP:20260422T010616Z
SUMMARY:TS - Scholars-in-Residence
DESCRIPTION:Jewish Federation of Greater Naples\nCommunity Calendar\nhttps:
 //jewishnaples.org/calendar/ts---scholars-in-residence-1723045901\n\nSchol
 ars-in-Residence during Kiddush lunch
DTSTART;TZID=America/New_York:20250118T120000
DTEND;TZID=America/New_York:20250118T130000
END:VEVENT
END:VCALENDAR
