BEGIN:VCALENDAR
PRODID:-//eluceo/ical//2.0/EN
VERSION:2.0
CALSCALE:GREGORIAN
BEGIN:VEVENT
UID:cede114fa55ad12ff2f53fb68dfe71ad
DTSTAMP:20260420T000257Z
SUMMARY:TS - Music of the Holocaust
DESCRIPTION:Jewish Federation of Greater Naples\nCommunity Calendar\nhttps:
 //jewishnaples.org/calendar/ts---music-of-the-holocaust-1715963712\n\nPlea
 se contact Temple Shalom for more information.
DTSTART;TZID=America/New_York:20250127T140000
DTEND;TZID=America/New_York:20250127T160000
END:VEVENT
END:VCALENDAR
