BEGIN:VCALENDAR
PRODID:-//eluceo/ical//2.0/EN
VERSION:2.0
CALSCALE:GREGORIAN
BEGIN:VEVENT
UID:2b9f96c4b350fcac9e5d8283dfa11e26
DTSTAMP:20260420T205205Z
SUMMARY:TS - Melton Adult Education
DESCRIPTION:Jewish Federation of Greater Naples\nCommunity Calendar\nhttps:
 //jewishnaples.org/calendar/ts---melton-adult-education-1756233585\n\nMelt
 on Adult Education offered by Temple Shalom.\nPlease visit the Temple Shal
 om website for more information and to register.
DTSTART;TZID=America/New_York:20260129T100000
DTEND;TZID=America/New_York:20260129T120000
END:VEVENT
END:VCALENDAR
