BEGIN:VCALENDAR
PRODID:-//eluceo/ical//2.0/EN
VERSION:2.0
CALSCALE:GREGORIAN
BEGIN:VEVENT
UID:d1b3f7ff99ed889514d2b9b7b0f5cd81
DTSTAMP:20260424T010322Z
SUMMARY:TS - Major Changes to Medicare for 2025
DESCRIPTION:Jewish Federation of Greater Naples\nCommunity Calendar\nhttps:
 //jewishnaples.org/calendar/ts---major-changes-to-medicare-for-2025-172063
 5056\n\nCo-sponsored by the Temple Shalom Men's Club and Sisterhood. Learn
  all about the upcoming changes to Medicare for 2025. Registration is requ
 ired. Please contact Temple Shalom.
DTSTART;TZID=America/New_York:20240910T133000
DTEND;TZID=America/New_York:20240910T153000
END:VEVENT
END:VCALENDAR
