BEGIN:VCALENDAR
PRODID:-//eluceo/ical//2.0/EN
VERSION:2.0
CALSCALE:GREGORIAN
BEGIN:VEVENT
UID:e7c247977889747cdb053478be823599
DTSTAMP:20260420T022934Z
SUMMARY:TS - Jewish Book Club
DESCRIPTION:Jewish Federation of Greater Naples\nCommunity Calendar\nhttps:
 //jewishnaples.org/calendar/ts---jewish-book-club-1756235147\n\nPlease vis
 it the Temple Shalom website for more information and to register.
DTSTART;TZID=America/New_York:20260414T110000
DTEND;TZID=America/New_York:20260414T120000
END:VEVENT
END:VCALENDAR
