BEGIN:VCALENDAR
PRODID:-//eluceo/ical//2.0/EN
VERSION:2.0
CALSCALE:GREGORIAN
BEGIN:VEVENT
UID:bf5e29b056633d5c43b3f17376fa8b0e
DTSTAMP:20260422T143001Z
SUMMARY:TS - Jewish Book Club
DESCRIPTION:Jewish Federation of Greater Naples\nCommunity Calendar\nhttps:
 //jewishnaples.org/calendar/ts---jewish-book-club-1756235044\n\nPlease vis
 it the Temple Shalom website for more information and to register.
DTSTART;TZID=America/New_York:20260203T110000
DTEND;TZID=America/New_York:20260203T120000
END:VEVENT
END:VCALENDAR
