BEGIN:VCALENDAR
PRODID:-//eluceo/ical//2.0/EN
VERSION:2.0
CALSCALE:GREGORIAN
BEGIN:VEVENT
UID:6f9b94e95b7700f1ed1df9a147eea642
DTSTAMP:20260424T164610Z
SUMMARY:TS - Jewish & Greek Program
DESCRIPTION:Jewish Federation of Greater Naples\nCommunity Calendar\nhttps:
 //jewishnaples.org/calendar/ts---jewish--greek-program-1756409302\n\nThis 
 program is on Zoom.\nProfessor Deven E. Naar\nPlease check the Temple Shal
 om website for more information.
DTSTART;TZID=America/New_York:20260211T150000
DTEND;TZID=America/New_York:20260211T170000
END:VEVENT
END:VCALENDAR
