BEGIN:VCALENDAR
PRODID:-//eluceo/ical//2.0/EN
VERSION:2.0
CALSCALE:GREGORIAN
BEGIN:VEVENT
UID:e2b9dccb20fe4cbbac18cdc417d4f452
DTSTAMP:20260420T063552Z
SUMMARY:TS - Changes to Medicare 2026 Information Session
DESCRIPTION:Jewish Federation of Greater Naples\nCommunity Calendar\nhttps:
 //jewishnaples.org/calendar/ts---changes-to-medicare-2026-information-sess
 ion-1759331613\n\nCo-sponsored by the Temple Shalom Men's Club and Sisterh
 ood and presented by Ron Cerritelli\, a licensed insurance agent with 30 y
 ears experience\, this program will offer valuable insight into the upcomi
 ng changes planned for Medicare in 2026.\nRegister to let us know you are 
 coming - https://tinyurl.com/TS-MedicareInfo2026
DTSTART;TZID=America/New_York:20251016T140000
DTEND;TZID=America/New_York:20251016T153000
END:VEVENT
END:VCALENDAR
