BEGIN:VCALENDAR
PRODID:-//eluceo/ical//2.0/EN
VERSION:2.0
CALSCALE:GREGORIAN
BEGIN:VEVENT
UID:b32fa7dcae84dd222bc346684671219b
DTSTAMP:20260421T000328Z
SUMMARY:Trivia Night
DESCRIPTION:Jewish Federation of Greater Naples\nCommunity Calendar\nhttps:
 //jewishnaples.org/calendar/trivia-night-1731006777\n\nThere will be chall
 enging questions\, lots of laughs\, and prizes for the winning team.\n\nPl
 ease Note:\n\nTeams can include up to 6 people\nThe cost is $18 per person
 \, includes snacks\, dessert and prizes.\nRegister and pay for yourself an
 d up to 5 guests.\nChoose your team\nIf you don't have a team\, you will b
 e assigned one.
DTSTART;TZID=America/New_York:20241222T190000
DTEND;TZID=America/New_York:20241222T210000
END:VEVENT
END:VCALENDAR
