BEGIN:VCALENDAR
PRODID:-//eluceo/ical//2.0/EN
VERSION:2.0
CALSCALE:GREGORIAN
BEGIN:VEVENT
UID:12c9ebbce88ba8c3b3b7c2b248e288ae
DTSTAMP:20260423T101726Z
SUMMARY:Treasure Hunt
DESCRIPTION:Jewish Federation of Greater Naples\nCommunity Calendar\nhttps:
 //jewishnaples.org/calendar/treasure-hunt-1627577781\n\n3-7 year olds and 
 their parents are invited on a Treasure Hunt for all things in nature alon
 g with a story about gratitude for those things\, followed by a slice of a
 pple and honey for the New Year.
DTSTART;TZID=America/New_York:20210829T140000
DTEND;TZID=America/New_York:20210829T150000
END:VEVENT
END:VCALENDAR
