BEGIN:VCALENDAR
PRODID:-//eluceo/ical//2.0/EN
VERSION:2.0
CALSCALE:GREGORIAN
BEGIN:VEVENT
UID:c6f01cba0794993f18a3e2181f6df756
DTSTAMP:20260420T131827Z
SUMMARY:Traveler Safety
DESCRIPTION:Jewish Federation of Greater Naples\nCommunity Calendar\nhttps:
 //jewishnaples.org/calendar/traveler-safety-1746818314\n\nJoin us
DTSTART;TZID=America/New_York:20250716T130000
DTEND;TZID=America/New_York:20250716T140000
END:VEVENT
END:VCALENDAR
