BEGIN:VCALENDAR
PRODID:-//eluceo/ical//2.0/EN
VERSION:2.0
CALSCALE:GREGORIAN
BEGIN:VEVENT
UID:b32d3e36b36c7264a7e1edaa30daec09
DTSTAMP:20260421T002529Z
SUMMARY:Town Hall Meeting at TS
DESCRIPTION:Jewish Federation of Greater Naples\nCommunity Calendar\nhttps:
 //jewishnaples.org/calendar/town-hall-meeting-at-ts\n\nTown Hall Meeting o
 n April 26\, 2017\, at 7 PM\, at Temple Shalom. This is open to the entire
  community.\n\nDoron Horowitz of SCN (Secure Community Network) will be ou
 r guest speaker.\n\nRSVP here.
DTSTART;TZID=America/New_York:20170426T190000
DTEND;TZID=America/New_York:20170426T210000
END:VEVENT
END:VCALENDAR
