BEGIN:VCALENDAR
PRODID:-//eluceo/ical//2.0/EN
VERSION:2.0
CALSCALE:GREGORIAN
BEGIN:VEVENT
UID:988a5a04c3d1e865a2a5ae22c37ad29b
DTSTAMP:20260424T015902Z
SUMMARY:Town Hall Meeting
DESCRIPTION:Jewish Federation of Greater Naples\nCommunity Calendar\nhttps:
 //jewishnaples.org/calendar/town-hall-meeting\n\nPlease join us for this c
 ommunity wide event.\n\n \n\nEveryone is invited to attend.\n\n \n\nTown
  Hall Meeting regarding\n\nanti- Semitism and threat overview.\n\nDiscuss 
 best practices against\n\nanti-Semitism and terrorism.\n\n \n\nWednesday\
 , April 26\n\n7:00 PM at Temple Shalom\n\n \n\nSpeaker:\n\nDoron Horowitz
 \, Senior National Security Advisor from\n\nSecure Community Network\n\n 
 \n\n \n\n \n\n \n\nSponsored by:\n\n \n\nJewish Federation of Collier 
 County\, BBYO\, Holocaust Museum...
DTSTART;TZID=America/New_York:20170426T190000
DTEND;TZID=America/New_York:20170426T210000
END:VEVENT
END:VCALENDAR
