BEGIN:VCALENDAR
PRODID:-//eluceo/ical//2.0/EN
VERSION:2.0
CALSCALE:GREGORIAN
BEGIN:VEVENT
UID:0faa1018023e76d769c2ef5487e4a7ed
DTSTAMP:20260420T190600Z
SUMMARY:Torah Talk at Temple Shalom
DESCRIPTION:Jewish Federation of Greater Naples\nCommunity Calendar\nhttps:
 //jewishnaples.org/calendar/torah-talk-at-temple-shalom\n\nTorah Talk at T
 emple Shalom\n\n1st Saturday of every month at 8:30 am
DTSTART;TZID=America/New_York:20160702T083000
DTEND;TZID=America/New_York:20160702T083000
END:VEVENT
END:VCALENDAR
