BEGIN:VCALENDAR
PRODID:-//eluceo/ical//2.0/EN
VERSION:2.0
CALSCALE:GREGORIAN
BEGIN:VEVENT
UID:87f8aa2de8de66d40ea28413465a93e5
DTSTAMP:20260421T234034Z
SUMMARY:TOP's Tax-Smart End of Year Giving Webinar
DESCRIPTION:Jewish Federation of Greater Naples\nCommunity Calendar\nhttps:
 //jewishnaples.org/calendar/tops-tax-smart-end-of-year-giving-webinar-1761
 327068\n\nZoom Program open to the entire community!\n\nTOP Jewish Foundat
 ion's Philanthropic Education Center's Webinar Series\n\nTax-Smart End-Of-
 Year Giving Strategies\n\nMaximize the Power of Your Philanthropy\n\nTOPic
 s Covered:\n-2026 Charitable Tax Considerations\n-One Big Beautiful Bill A
 ct\n-Strategies to Maximize End of Year Charitable Giving\n\nPanelists:\nE
 d Wollman\, JD\, LLM\, Partner at Wollman\, Gehrke & Associates\nDanielle 
 Krise\, CFP\, Vice President\, Raymond James Financial\nJill Jagler\, C...
DTSTART;TZID=America/New_York:20251103T120000
DTEND;TZID=America/New_York:20251103T130000
END:VEVENT
END:VCALENDAR
