BEGIN:VCALENDAR
PRODID:-//eluceo/ical//2.0/EN
VERSION:2.0
CALSCALE:GREGORIAN
BEGIN:VEVENT
UID:74ee8750f72f54c4cc96bdcebe7ced78
DTSTAMP:20260419T221642Z
SUMMARY:TOP webinar
DESCRIPTION:Jewish Federation of Greater Naples\nCommunity Calendar\nhttps:
 //jewishnaples.org/calendar/top-webinar-1772562727\n\nTOP's Philanthropic 
 Education Center Webinar Series presents "Harnessing the Power of Your Don
 or-Advised Fund" for new\, very experienced\, and potential fundholders. P
 resenters include Craig Sher\, Daniel Harris\, and Ellen Lipman.
DTSTART;TZID=America/New_York:20260318T120000
DTEND;TZID=America/New_York:20260318T130000
END:VEVENT
END:VCALENDAR
