BEGIN:VCALENDAR
PRODID:-//eluceo/ical//2.0/EN
VERSION:2.0
CALSCALE:GREGORIAN
BEGIN:VEVENT
UID:1cb7e1cb2c2bbe4a7149190b561b2eeb
DTSTAMP:20260423T215144Z
SUMMARY:TOP Tax Smart Webinar
DESCRIPTION:Jewish Federation of Greater Naples\nCommunity Calendar\nhttps:
 //jewishnaples.org/calendar/top-tax-smart-webinar-1760119526\n\nZoom Progr
 am open to the entire community!\n\nTOP Jewish Foundation's Philanthropic 
 Education Center's Webinar Series\n\nTax-Smart End-Of-Year Giving Strategi
 es\n\nMaximize the Power of Your Philanthropy\n\nTOPics Covered:\n-2026 Ch
 aritable Tax Considerations\n-One Big Beautiful Bill Act\n-Strategies to M
 aximize End of Year Charitable Giving\n\nPanelists:\nEd Wollman\, JD\, LLM
 \, Partner at Wollman\, Gehrke & Associates\nDanielle Krise\, CFP\, Vice P
 resident\, Raymond James Financial\nEllen Weiss\, E...
DTSTART;TZID=America/New_York:20251021T120000
DTEND;TZID=America/New_York:20251021T130000
END:VEVENT
END:VCALENDAR
