BEGIN:VCALENDAR
PRODID:-//eluceo/ical//2.0/EN
VERSION:2.0
CALSCALE:GREGORIAN
BEGIN:VEVENT
UID:0576601eff2dc3de1ba1b2e0318da337
DTSTAMP:20260419T235543Z
SUMMARY:TOP: Tax & Legislative Update Webinar
DESCRIPTION:Jewish Federation of Greater Naples\nCommunity Calendar\nhttps:
 //jewishnaples.org/calendar/top-tax--legislative-update-webinar-1646750291
 \n\nPlease join us for a complimentary webinar\, Tax & Legislative Update.
  This webinar is being held on zoom. Register at this link:  https://us02w
 eb.zoom.us/meeting/register/tZEpfuqqqTorHtIVua27MhW16EG3fBFLwP3a
DTSTART;TZID=America/New_York:20220316T120000
DTEND;TZID=America/New_York:20220316T130000
END:VEVENT
END:VCALENDAR
