BEGIN:VCALENDAR
PRODID:-//eluceo/ical//2.0/EN
VERSION:2.0
CALSCALE:GREGORIAN
BEGIN:VEVENT
UID:b491cd6ef18668b20bab5108ef01c5d8
DTSTAMP:20260424T102846Z
SUMMARY:TOP Professional Advisors Council Webinar
DESCRIPTION:Jewish Federation of Greater Naples\nCommunity Calendar\nhttps:
 //jewishnaples.org/calendar/top-professional-advisors-council-webinar-1641
 351180\n\nPlease join our first Professional Advisors Council webinar of 2
 022! You will learn how TOP Jewish Foundation is a resource for your clien
 ts and gain knowledge about our foundation. You can register for this Zoom
  event at https://us02web.zoom.us/meeting/register/tZIvduitrjwqGdcnlLCP0xx
 -zSmDgAnLW814
DTSTART;TZID=America/New_York:20220210T120000
DTEND;TZID=America/New_York:20220210T130000
END:VEVENT
END:VCALENDAR
