BEGIN:VCALENDAR
PRODID:-//eluceo/ical//2.0/EN
VERSION:2.0
CALSCALE:GREGORIAN
BEGIN:VEVENT
UID:80989c1833fb814932327cd4c3ac552c
DTSTAMP:20260423T202313Z
SUMMARY:TOP Lunch & Learn
DESCRIPTION:Jewish Federation of Greater Naples\nCommunity Calendar\nhttps:
 //jewishnaples.org/calendar/top-lunch--learn-1572028885\n\nGuest Speaker: 
 Ellen Weiss\, Executive Director of TOP Jewish Foundation\n\nLunch is Comp
 limentary.\n\n \n\nRSVP to Marcy Friedland\, Capital Campaign & Planned G
 iving Director\, mfriedland@jewishnaples.org
DTSTART;TZID=America/New_York:20191219T120000
DTEND;TZID=America/New_York:20191219T130000
END:VEVENT
END:VCALENDAR
