BEGIN:VCALENDAR
PRODID:-//eluceo/ical//2.0/EN
VERSION:2.0
CALSCALE:GREGORIAN
BEGIN:VEVENT
UID:231b4078e30b767dfb1d64c996ad8b76
DTSTAMP:20260422T225825Z
SUMMARY:TOP Jewish Foundation Endowments Webinar
DESCRIPTION:Jewish Federation of Greater Naples\nCommunity Calendar\nhttps:
 //jewishnaples.org/calendar/top-jewish-foundation-endowments-webinar-16618
 70527\n\nTOP Jewish Foundation adeptly manages nearly 700 funds for famili
 es\, couples\, organizations\, and individuals with the goal of enhancing 
 the charitable experience while ensuring our Jewish future. With a values-
 driven model\, we continue to grow and develop\, now serving communities o
 utside our original core locale.\n\nTOP will help you design your philanth
 ropy to help the community and benefit you. Short-term giving options let 
 you take the tax benefit of your giving immediately\, and long-term...
DTSTART;TZID=America/New_York:20220922T120000
DTEND;TZID=America/New_York:20220922T130000
END:VEVENT
END:VCALENDAR
