BEGIN:VCALENDAR
PRODID:-//eluceo/ical//2.0/EN
VERSION:2.0
CALSCALE:GREGORIAN
BEGIN:VEVENT
UID:7a225dfb6cb720b11d575130d67387ae
DTSTAMP:20260422T125538Z
SUMMARY:TOP Jewish Foundation Donor and Legacy Donor Celebration
DESCRIPTION:Jewish Federation of Greater Naples\nCommunity Calendar\nhttps:
 //jewishnaples.org/calendar/top-jewish-foundation-donor-and-legacy-donor-c
 elebration-1593635747\n\nComplimentary by invite-only
DTSTART;TZID=America/New_York:20210114T190000
DTEND;TZID=America/New_York:20210114T210000
END:VEVENT
END:VCALENDAR
