BEGIN:VCALENDAR
PRODID:-//eluceo/ical//2.0/EN
VERSION:2.0
CALSCALE:GREGORIAN
BEGIN:VEVENT
UID:116215b18a54236cad892f28fbae34b8
DTSTAMP:20260423T214018Z
SUMMARY:TOP Jewish Foundation Board Meeting
DESCRIPTION:Jewish Federation of Greater Naples\nCommunity Calendar\nhttps:
 //jewishnaples.org/calendar/top-jewish-foundation-board-meeting-1657734865
 \n\nFor current Board Members
DTSTART;TZID=America/New_York:20230419T173000
DTEND;TZID=America/New_York:20230419T190000
END:VEVENT
END:VCALENDAR
