BEGIN:VCALENDAR
PRODID:-//eluceo/ical//2.0/EN
VERSION:2.0
CALSCALE:GREGORIAN
BEGIN:VEVENT
UID:00ed57a45593dfcef002bbb2641c550c
DTSTAMP:20260423T094415Z
SUMMARY:TOP Jewish Foundation Board Meeting
DESCRIPTION:Jewish Federation of Greater Naples\nCommunity Calendar\nhttps:
 //jewishnaples.org/calendar/top-jewish-foundation-board-meeting-1657734811
 \n\nFor current Board Members
DTSTART;TZID=America/New_York:20230222T173000
DTEND;TZID=America/New_York:20230222T190000
END:VEVENT
END:VCALENDAR
