BEGIN:VCALENDAR
PRODID:-//eluceo/ical//2.0/EN
VERSION:2.0
CALSCALE:GREGORIAN
BEGIN:VEVENT
UID:4a7e419676d0c77f8fd234f0b66f8a95
DTSTAMP:20260422T003938Z
SUMMARY:TOP Jewish Foundation Board Meeting
DESCRIPTION:Jewish Federation of Greater Naples\nCommunity Calendar\nhttps:
 //jewishnaples.org/calendar/top-jewish-foundation-board-meeting-1657734769
 \n\nFor current Board Members
DTSTART;TZID=America/New_York:20230125T173000
DTEND;TZID=America/New_York:20230125T190000
END:VEVENT
END:VCALENDAR
