BEGIN:VCALENDAR
PRODID:-//eluceo/ical//2.0/EN
VERSION:2.0
CALSCALE:GREGORIAN
BEGIN:VEVENT
UID:cc253477fdac61bd3d478426d9c0e874
DTSTAMP:20260423T071408Z
SUMMARY:TOP Jewish Foundation Board Meeting
DESCRIPTION:Jewish Federation of Greater Naples\nCommunity Calendar\nhttps:
 //jewishnaples.org/calendar/top-jewish-foundation-board-meeting-1657734653
 \n\nFor current board members
DTSTART;TZID=America/New_York:20221026T173000
DTEND;TZID=America/New_York:20221026T190000
END:VEVENT
END:VCALENDAR
