BEGIN:VCALENDAR
PRODID:-//eluceo/ical//2.0/EN
VERSION:2.0
CALSCALE:GREGORIAN
BEGIN:VEVENT
UID:396e3dfe04da6af2bb8b6217737a9ada
DTSTAMP:20260423T213959Z
SUMMARY:TOP Jewish Foundation Board Meeting
DESCRIPTION:Jewish Federation of Greater Naples\nCommunity Calendar\nhttps:
 //jewishnaples.org/calendar/top-jewish-foundation-board-meeting-1657734597
 \n\nFor current board members
DTSTART;TZID=America/New_York:20220920T173000
DTEND;TZID=America/New_York:20220920T190000
END:VEVENT
END:VCALENDAR
