BEGIN:VCALENDAR
PRODID:-//eluceo/ical//2.0/EN
VERSION:2.0
CALSCALE:GREGORIAN
BEGIN:VEVENT
UID:d3550aad3d647f6fb62282899385e598
DTSTAMP:20260424T031741Z
SUMMARY:TOP Goldman Sachs Event (Tampa)
DESCRIPTION:Jewish Federation of Greater Naples\nCommunity Calendar\nhttps:
 //jewishnaples.org/calendar/top-goldman-sachs-event-tampa-1659359707\n\nGo
 ldman Sachs and TOP Jewish Foundation present an Economic and Market Outlo
 ok. The entire community is welcome to attend this in-person event. Detail
 s to come.
DTSTART;TZID=America/New_York:20221115T183000
DTEND;TZID=America/New_York:20221115T203000
END:VEVENT
END:VCALENDAR
