BEGIN:VCALENDAR
PRODID:-//eluceo/ical//2.0/EN
VERSION:2.0
CALSCALE:GREGORIAN
BEGIN:VEVENT
UID:dcbc3d651d574d18949d376df1208a7d
DTSTAMP:20260423T020851Z
SUMMARY:Tax-Smart Giving – Part 2  Secure Your Family & Jewish Community
DESCRIPTION:Jewish Federation of Greater Naples\nCommunity Calendar\nhttps:
 //jewishnaples.org/calendar/top-1745956351\n\n
DTSTART;TZID=America/New_York:20260121T100000
DTEND;TZID=America/New_York:20260121T110000
END:VEVENT
END:VCALENDAR
