BEGIN:VCALENDAR
PRODID:-//eluceo/ical//2.0/EN
VERSION:2.0
CALSCALE:GREGORIAN
BEGIN:VEVENT
UID:c0cd1040f59846b32606d7d7488c4196
DTSTAMP:20260422T010636Z
SUMMARY:The Maccabeats
DESCRIPTION:Jewish Federation of Greater Naples\nCommunity Calendar\nhttps:
 //jewishnaples.org/calendar/the-maccabeats-1727887047\n\nYou’ve heard th
 em and seen their fun and entertaining music videos . Often traveling with
  little more than the shirts on their backs and the ties on their necks\, 
 the Maccabeats have entertained and inspired hundreds of audiences worldwi
 de. Using nothing more than the unadulterated human voice\, a clean-cut pr
 esentation\, and a little Jewish humor\, this unique group of singers is a
 ble to connect with fans of all backgrounds and ages.
DTSTART;TZID=America/New_York:20241110T150000
DTEND;TZID=America/New_York:20241110T170000
END:VEVENT
END:VCALENDAR
