BEGIN:VCALENDAR
PRODID:-//eluceo/ical//2.0/EN
VERSION:2.0
CALSCALE:GREGORIAN
BEGIN:VEVENT
UID:c251b950bd92d16ee55b9ba1861cf89c
DTSTAMP:20260422T110939Z
SUMMARY:The Lost Wife Discussion
DESCRIPTION:Jewish Federation of Greater Naples\nCommunity Calendar\nhttps:
 //jewishnaples.org/calendar/the-lost-wife-discussion-1569607454\n\nDiscuss
 ion of Alyson Richman’s historical novel “The Lost Wife\,” a romance
  story set against the backdrop of WWII\, with the heart of the book takin
 g place in Terezin Concentration Camp. 2 p.m.\, South Regional Library. RS
 VPs beginning in December at collierlibrary.org/events. 
DTSTART;TZID=America/New_York:20200115T140000
DTEND;TZID=America/New_York:20200115T160000
END:VEVENT
END:VCALENDAR
