BEGIN:VCALENDAR
PRODID:-//eluceo/ical//2.0/EN
VERSION:2.0
CALSCALE:GREGORIAN
BEGIN:VEVENT
UID:687aa8fd7c915a402c2ab7c878ed7e4c
DTSTAMP:20260422T160440Z
SUMMARY:The Humanitarian Crisis in Israel
DESCRIPTION:Jewish Federation of Greater Naples\nCommunity Calendar\nhttps:
 //jewishnaples.org/calendar/the-humanitarian-crisis-in-israel-1715361794\n
 \nEveryone is invited!\nJoin us on Zoom on Tuesday\, September 17 at 2 pm.
 \n\nFood Insecurity in Israel's Time of Crisis\n\nHow One Organization Emp
 loyed Creative Solutions to Address Hunger and Urgent Needs During the War
  with guest Speaker\, Lauren Yokèd\n\nLauren Yokèd\, Executive Director 
 of American Friends of Leket Israel\, will discuss the worsening food inse
 curity situation in Israel and how Leket Israel— Israel’s National Foo
 d Bank and largest food rescue organization quickly pivoted...
DTSTART;TZID=America/New_York:20240917T140000
DTEND;TZID=America/New_York:20240917T150000
END:VEVENT
END:VCALENDAR
