BEGIN:VCALENDAR
PRODID:-//eluceo/ical//2.0/EN
VERSION:2.0
CALSCALE:GREGORIAN
BEGIN:VEVENT
UID:e9497f682c4949ebbd8bbbb6bf43a621
DTSTAMP:20260422T025733Z
SUMMARY:The Hadassah BAKE OFF
DESCRIPTION:Jewish Federation of Greater Naples\nCommunity Calendar\nhttps:
 //jewishnaples.org/calendar/the-hadassah-bake-off-1710808494\n\nAttendees 
 will enjoy a relaxing time tasting delicious home-baked goods. Judges will
  select first\, second and third prizes and all attendees will vote for a 
 People's Choice prize. Attendees DO NOT HAVE TO BAKE. The event is planned
  to celebrate the 42nd anniversary of the Collier/Lee Chapter of Hadassah 
 in its service to the community and to Israel.
DTSTART;TZID=America/New_York:20240502T133000
DTEND;TZID=America/New_York:20240502T153000
END:VEVENT
END:VCALENDAR
