BEGIN:VCALENDAR
PRODID:-//eluceo/ical//2.0/EN
VERSION:2.0
CALSCALE:GREGORIAN
BEGIN:VEVENT
UID:eef46a221b0c7790936923337c7b28d5
DTSTAMP:20260420T022759Z
SUMMARY:The Florence Melton School of Adult Jewish Learning - Core Class Ye
 ar 1
DESCRIPTION:Jewish Federation of Greater Naples\nCommunity Calendar\nhttps:
 //jewishnaples.org/calendar/the-florence-melton-school-of-adult-jewish-lea
 rning---core-class-year-1-1498656552\n\n15 week course\n2:00pm to 4:00pm\n
 Faculty: Rabbi Adam Miller and Rabbi Ammos Chorny\n\n \n\n​at Temple Sh
 alom
DTSTART;TZID=America/New_York:20171205T140000
DTEND;TZID=America/New_York:20171205T160000
END:VEVENT
END:VCALENDAR
