BEGIN:VCALENDAR
PRODID:-//eluceo/ical//2.0/EN
VERSION:2.0
CALSCALE:GREGORIAN
BEGIN:VEVENT
UID:6fd12595f05c6c248fc57661b30731cf
DTSTAMP:20260422T115848Z
SUMMARY:The Domino Effect of Oct. 7
DESCRIPTION:Jewish Federation of Greater Naples\nCommunity Calendar\nhttps:
 //jewishnaples.org/calendar/the-domino-effect-of-oct-7-1741773807\n\n \n\
 nTHE DOMINO EFFECT OF OCTOBER 7TH\,\nA PIVOTAL MOMENT IN THE MIDDLE EAST\n
 \nwith guest speaker Avi Melamed\n\nWednesday\, March 19\n3:30 PM\nIn Pers
 on or on Zoom\nFree program\nThe October 7th attacks marked a watershed mo
 ment in Middle Eastern history\, setting off a chain reaction that has res
 haped regional dynamics. This pivotal briefing will explore the factors le
 ading up to October 7th and analyze the subsequent events that have transf
 ormed the geopolitical landscape.\n\nWe will examin...
DTSTART;TZID=America/New_York:20250319T153000
DTEND;TZID=America/New_York:20250319T170000
END:VEVENT
END:VCALENDAR
