BEGIN:VCALENDAR
PRODID:-//eluceo/ical//2.0/EN
VERSION:2.0
CALSCALE:GREGORIAN
BEGIN:VEVENT
UID:8cc71f9fdb74c3b0e3e232e916523dbd
DTSTAMP:20260420T134320Z
SUMMARY:The 2025 Movies That Matter Steve Brazina Memorial Film Series #2 o
 f 3
DESCRIPTION:Jewish Federation of Greater Naples\nCommunity Calendar\nhttps:
 //jewishnaples.org/calendar/the-2025-movies-that-matter-steve-brazina-memo
 rial-film-series-2-of-3-1745595172\n\nThe 2025 Movies That Matter Steve Br
 azina Memorial Film Series Program # 2 of 3\nDate: Thursday\, October 30\,
  2025\nTime: 2:00pm - 3:00pm\nLocation: Holocaust Museum & Cohen Education
  Center in Naples from \nRSVP required to hmcec.org/calendar
DTSTART;TZID=America/New_York:20251030T140000
DTEND;TZID=America/New_York:20251030T150000
END:VEVENT
END:VCALENDAR
