BEGIN:VCALENDAR
PRODID:-//eluceo/ical//2.0/EN
VERSION:2.0
CALSCALE:GREGORIAN
BEGIN:VEVENT
UID:a216b289a933c0cf266eea9315562d1f
DTSTAMP:20260422T011930Z
SUMMARY:Temple Shalom Welcome Back and Cabaret Night
DESCRIPTION:Jewish Federation of Greater Naples\nCommunity Calendar\nhttps:
 //jewishnaples.org/calendar/temple-shalom-welcome-back-and-cabaret-night-1
 681138682\n\nReconnect with old friends and make new friends while you enj
 oy delicious desserts & wine. Live music by Jebry. Please visit the Temple
  Shalom website for more information and to reserve your spot.
DTSTART;TZID=America/New_York:20231217T190000
DTEND;TZID=America/New_York:20231217T210000
END:VEVENT
END:VCALENDAR
