BEGIN:VCALENDAR
PRODID:-//eluceo/ical//2.0/EN
VERSION:2.0
CALSCALE:GREGORIAN
BEGIN:VEVENT
UID:6778085e9eee159fb68d2168954b28d4
DTSTAMP:20260420T134414Z
SUMMARY:Temple Shalom Sisterhood Mah Jongg Tournament
DESCRIPTION:Jewish Federation of Greater Naples\nCommunity Calendar\nhttps:
 //jewishnaples.org/calendar/temple-shalom-sisterhood-mah-jongg-tournament-
 1554134840\n\nPlease contact Temple Shalom for more information.
DTSTART;TZID=America/New_York:20200121T080000
DTEND;TZID=America/New_York:20200121T160000
END:VEVENT
END:VCALENDAR
