BEGIN:VCALENDAR
PRODID:-//eluceo/ical//2.0/EN
VERSION:2.0
CALSCALE:GREGORIAN
BEGIN:VEVENT
UID:2f110c790774f8a9e16db1a76e565fef
DTSTAMP:20260422T011657Z
SUMMARY:Temple Shalom Sisterhood Game Day Fundraiser
DESCRIPTION:Jewish Federation of Greater Naples\nCommunity Calendar\nhttps:
 //jewishnaples.org/calendar/temple-shalom-sisterhood-game-day-fundraiser\n
 \nPlease check back for more details.
DTSTART;TZID=America/New_York:20240110T083000
DTEND;TZID=America/New_York:20240110T160000
END:VEVENT
END:VCALENDAR
