BEGIN:VCALENDAR
PRODID:-//eluceo/ical//2.0/EN
VERSION:2.0
CALSCALE:GREGORIAN
BEGIN:VEVENT
UID:901196638cd9392ac496529705953997
DTSTAMP:20260419T211313Z
SUMMARY:Temple Shalom Sisterhood & Men's Club Annual Joint Luncheon
DESCRIPTION:Jewish Federation of Greater Naples\nCommunity Calendar\nhttps:
 //jewishnaples.org/calendar/temple-shalom-sisterhood--mens-club-annual-joi
 nt-luncheon-1681329600\n\nTemple Shalom Sisterhood & Men's Club Annual Joi
 nt Luncheon
DTSTART;TZID=America/New_York:20240213T113000
DTEND;TZID=America/New_York:20240213T130000
END:VEVENT
END:VCALENDAR
