BEGIN:VCALENDAR
PRODID:-//eluceo/ical//2.0/EN
VERSION:2.0
CALSCALE:GREGORIAN
BEGIN:VEVENT
UID:0b60f4496c2eeb1ba51f0b2382006344
DTSTAMP:20260423T215118Z
SUMMARY:Temple Shalom Shabbat Evening Service Summer
DESCRIPTION:Jewish Federation of Greater Naples\nCommunity Calendar\nhttps:
 //jewishnaples.org/calendar/temple-shalom-shabbat-evening-service-summer\n
 \nTemple Shalom Shabbat Evening Service\n\nJune\, July\, and August starts
  at 6:00 PM
DTSTART;TZID=America/New_York:20250606T180000
DTEND;TZID=America/New_York:20250606T193000
END:VEVENT
END:VCALENDAR
