BEGIN:VCALENDAR
PRODID:-//eluceo/ical//2.0/EN
VERSION:2.0
CALSCALE:GREGORIAN
BEGIN:VEVENT
UID:f3afc57d752bf18b5aa397ded1ebef0d
DTSTAMP:20260424T004348Z
SUMMARY:Temple Shalom Shabbat Evening Service
DESCRIPTION:Jewish Federation of Greater Naples\nCommunity Calendar\nhttps:
 //jewishnaples.org/calendar/temple-shalom-shabbat-evening-service-16813272
 58\n\nTemple Shalom Shabbat Evening Service
DTSTART;TZID=America/New_York:20230414T193000
DTEND;TZID=America/New_York:20230414T204500
END:VEVENT
END:VCALENDAR
