BEGIN:VCALENDAR
PRODID:-//eluceo/ical//2.0/EN
VERSION:2.0
CALSCALE:GREGORIAN
BEGIN:VEVENT
UID:1971b653a7d41a7d7559332e26b597e0
DTSTAMP:20260423T093016Z
SUMMARY:Temple Shalom Shabbat evening service
DESCRIPTION:Jewish Federation of Greater Naples\nCommunity Calendar\nhttps:
 //jewishnaples.org/calendar/temple-shalom-shabbat-evening-service-14956494
 45\n\nShabbat evening service
DTSTART;TZID=America/New_York:20170707T193000
DTEND;TZID=America/New_York:20170707T210000
END:VEVENT
END:VCALENDAR
