BEGIN:VCALENDAR
PRODID:-//eluceo/ical//2.0/EN
VERSION:2.0
CALSCALE:GREGORIAN
BEGIN:VEVENT
UID:908643c180a837e1b497d50f3530fa55
DTSTAMP:20260420T030330Z
SUMMARY:Temple Shalom Open House
DESCRIPTION:Jewish Federation of Greater Naples\nCommunity Calendar\nhttps:
 //jewishnaples.org/calendar/temple-shalom-open-house-1495374036\n\nOpen ho
 use for prospective members.
DTSTART;TZID=America/New_York:20170908T183000
DTEND;TZID=America/New_York:20170908T210000
END:VEVENT
END:VCALENDAR
